BEGIN:VCALENDAR
VERSION:2.0
PRODID:-//Sakyamuni Sambuddha Vihara, Berwick - ECPv6.0.3//NONSGML v1.0//EN
CALSCALE:GREGORIAN
METHOD:PUBLISH
X-ORIGINAL-URL:https://vihara.org.au
X-WR-CALDESC:Events for Sakyamuni Sambuddha Vihara, Berwick
REFRESH-INTERVAL;VALUE=DURATION:PT1H
X-Robots-Tag:noindex
X-PUBLISHED-TTL:PT1H
BEGIN:VTIMEZONE
TZID:Australia/Melbourne
BEGIN:STANDARD
TZOFFSETFROM:+1100
TZOFFSETTO:+1000
TZNAME:AEST
DTSTART:20250405T160000
END:STANDARD
BEGIN:DAYLIGHT
TZOFFSETFROM:+1000
TZOFFSETTO:+1100
TZNAME:AEDT
DTSTART:20251004T160000
END:DAYLIGHT
END:VTIMEZONE
BEGIN:VEVENT
DTSTART;TZID=Australia/Melbourne:20251001T190000
DTEND;TZID=Australia/Melbourne:20251001T210000
DTSTAMP:20260423T213310
CREATED:20250704T011901Z
LAST-MODIFIED:20250704T011901Z
UID:7131-1759345200-1759352400@vihara.org.au
SUMMARY:Weekly Sutta and Dhamma Discussion - Vas Season 2025
DESCRIPTION:Dear Devotees\, \nBuddha Vandada\, Sutta and Dhamma discussions will be conducted on Wednesdays from 7.00 pm during the Vas season. \n\nPlease contact via 0400 148 461\, 0410 998 940 for any enquiries.\n\nPlease subscribe to the Vihara mailing list to receive events and program updates by providing your email in the form at the bottom of the home page.
URL:https://vihara.org.au/event/weekly-sutta-and-dhamma-discussion-vas-season-2025/2025-10-01/
LOCATION:Sakyamuni Sambuddha Vihara\, 125 Homestead Road\, Berwick\, Victoria\, 3806\, Australia
CATEGORIES:Vas programs,Weekly events
ATTACH;FMTTYPE=image/jpeg:https://vihara.org.au/wp-content/uploads/2025/07/vas-programs-2025-scaled.jpg
ORGANIZER;CN="Buddhist%20Vihara%20Victoria":MAILTO:committee@vihara.org.au
GEO:-38.05487;145.32468
X-APPLE-STRUCTURED-LOCATION;VALUE=URI;X-ADDRESS=Sakyamuni Sambuddha Vihara 125 Homestead Road Berwick Victoria 3806 Australia;X-APPLE-RADIUS=500;X-TITLE=125 Homestead Road:geo:145.32468,-38.05487
END:VEVENT
BEGIN:VEVENT
DTSTART;TZID=Australia/Melbourne:20251003T190000
DTEND;TZID=Australia/Melbourne:20251003T203000
DTSTAMP:20260423T213310
CREATED:20251003T034428Z
LAST-MODIFIED:20251003T034428Z
UID:7331-1759518000-1759523400@vihara.org.au
SUMMARY:Pattana Chanting and Light Offering 2025
DESCRIPTION:Dear Devotees\, \nThere is a special “Pattana Chanting” and “Light offerings” with the Buddha Vandana on Friday\, 3rd October 2025 from 7.00 PM. \n\nPlease see the flyer for more details.\n\nඅන්තර්ජාල සජීවීනාලිකා / Live streaming channels\nYouTube link: https://www.youtube.com/@berwicktemple\nFacebook link: https://www.facebook.com/berwicktemple/ \nMay the Noble Triple Gem bless you! \nPlease subscribe to the Vihara mailing list to receive events and program updates by providing your email in the form at the bottom of the home page.
URL:https://vihara.org.au/event/pattana-chanting-and-light-offering-2025/
LOCATION:Sakyamuni Sambuddha Vihara\, 125 Homestead Road\, Berwick\, Victoria\, 3806\, Australia
CATEGORIES:Annual events,Blessings,Vas programs
ATTACH;FMTTYPE=image/jpeg:https://vihara.org.au/wp-content/uploads/2025/10/pattana-chanting-2025.jpg
ORGANIZER;CN="Buddhist%20Vihara%20Victoria":MAILTO:committee@vihara.org.au
GEO:-38.05487;145.32468
X-APPLE-STRUCTURED-LOCATION;VALUE=URI;X-ADDRESS=Sakyamuni Sambuddha Vihara 125 Homestead Road Berwick Victoria 3806 Australia;X-APPLE-RADIUS=500;X-TITLE=125 Homestead Road:geo:145.32468,-38.05487
END:VEVENT
BEGIN:VEVENT
DTSTART;TZID=Australia/Melbourne:20251004T200000
DTEND;TZID=Australia/Melbourne:20251004T213000
DTSTAMP:20260423T213310
CREATED:20251004T085836Z
LAST-MODIFIED:20251004T085836Z
UID:7340-1759608000-1759613400@vihara.org.au
SUMMARY:Weekly Dhamma Sermon - Vas Season 2025
DESCRIPTION:Dear Devotees\, \nVas Dhamma Sermons will be conducted on Saturdays from 8.00 pm during the Vas season. This Vas Dhamma Sermon will be conducted by Venerable Wegodapola Wimalagnana Thero on Saturday\, 04 October from 8.00 PM. \n\nPlease contact via 0400 148 461\, 0410 998 940 for any enquiries.\nPlease check the flyer for more details.\n\nඅන්තර්ජාල සජීවීනාලිකා / Live streaming channels\nYouTube link: https://www.youtube.com/@berwicktemple\nFacebook link: https://www.facebook.com/berwicktemple/ \nMay the Noble Triple Gem bless you! \nPlease subscribe to the Vihara mailing list to receive events and program updates by providing your email in the form at the bottom of the home page.
URL:https://vihara.org.au/event/weekly-dhamma-sermon-vas-season-2025-2025-10-04/
LOCATION:Sakyamuni Sambuddha Vihara\, 125 Homestead Road\, Berwick\, Victoria\, 3806\, Australia
CATEGORIES:Dhamma sermons,Vas programs,Weekly events
ATTACH;FMTTYPE=image/jpeg:https://vihara.org.au/wp-content/uploads/2025/10/2025-vas-dhamma-sermon-13-scaled.jpg
ORGANIZER;CN="Buddhist%20Vihara%20Victoria":MAILTO:committee@vihara.org.au
GEO:-38.05487;145.32468
X-APPLE-STRUCTURED-LOCATION;VALUE=URI;X-ADDRESS=Sakyamuni Sambuddha Vihara 125 Homestead Road Berwick Victoria 3806 Australia;X-APPLE-RADIUS=500;X-TITLE=125 Homestead Road:geo:145.32468,-38.05487
END:VEVENT
BEGIN:VEVENT
DTSTART;TZID=Australia/Melbourne:20251012T080000
DTEND;TZID=Australia/Melbourne:20251012T140000
DTSTAMP:20260423T213310
CREATED:20250919T081907Z
LAST-MODIFIED:20250919T081907Z
UID:7324-1760256000-1760277600@vihara.org.au
SUMMARY:Annual Katina Ceremony 2025
DESCRIPTION:Dear Devotees\, \nThe annual Katina Ceremony of Sakyamuni Sambuddha Vihara will be held on Sunday\, 12th October 2025 from 8.00 AM. \n\nPlease see the flyer for more details.\n\nඅන්තර්ජාල සජීවීනාලිකා / Live streaming channels\nYouTube link: https://www.youtube.com/@berwicktemple\nFacebook link: https://www.facebook.com/berwicktemple/ \nMay the Noble Triple Gem bless you! \nPlease subscribe to the Vihara mailing list to receive events and program updates by providing your email in the form at the bottom of the home page.
URL:https://vihara.org.au/event/annual-katina-ceremony-2025/
LOCATION:Sakyamuni Sambuddha Vihara\, 125 Homestead Road\, Berwick\, Victoria\, 3806\, Australia
CATEGORIES:Annual events,Blessings,Ceremonies,Special pooja,Vas programs
ATTACH;FMTTYPE=image/jpeg:https://vihara.org.au/wp-content/uploads/2025/09/katina-ceremony-2025.jpg
ORGANIZER;CN="Buddhist%20Vihara%20Victoria":MAILTO:committee@vihara.org.au
GEO:-38.05487;145.32468
X-APPLE-STRUCTURED-LOCATION;VALUE=URI;X-ADDRESS=Sakyamuni Sambuddha Vihara 125 Homestead Road Berwick Victoria 3806 Australia;X-APPLE-RADIUS=500;X-TITLE=125 Homestead Road:geo:145.32468,-38.05487
END:VEVENT
END:VCALENDAR